BEGIN:VCALENDAR
VERSION:2.0
PRODID:-//Hogan&#039;s Place Petting Farm - ECPv6.15.20//NONSGML v1.0//EN
CALSCALE:GREGORIAN
METHOD:PUBLISH
X-WR-CALNAME:Hogan&#039;s Place Petting Farm
X-ORIGINAL-URL:https://hogansplacepettingfarm.com
X-WR-CALDESC:Events for Hogan&#039;s Place Petting Farm
REFRESH-INTERVAL;VALUE=DURATION:PT1H
X-Robots-Tag:noindex
X-PUBLISHED-TTL:PT1H
BEGIN:VTIMEZONE
TZID:America/New_York
BEGIN:DAYLIGHT
TZOFFSETFROM:-0500
TZOFFSETTO:-0400
TZNAME:EDT
DTSTART:20250309T070000
END:DAYLIGHT
BEGIN:STANDARD
TZOFFSETFROM:-0400
TZOFFSETTO:-0500
TZNAME:EST
DTSTART:20251102T060000
END:STANDARD
BEGIN:DAYLIGHT
TZOFFSETFROM:-0500
TZOFFSETTO:-0400
TZNAME:EDT
DTSTART:20260308T070000
END:DAYLIGHT
BEGIN:STANDARD
TZOFFSETFROM:-0400
TZOFFSETTO:-0500
TZNAME:EST
DTSTART:20261101T060000
END:STANDARD
BEGIN:DAYLIGHT
TZOFFSETFROM:-0500
TZOFFSETTO:-0400
TZNAME:EDT
DTSTART:20270314T070000
END:DAYLIGHT
BEGIN:STANDARD
TZOFFSETFROM:-0400
TZOFFSETTO:-0500
TZNAME:EST
DTSTART:20271107T060000
END:STANDARD
END:VTIMEZONE
BEGIN:VEVENT
DTSTART;TZID=America/New_York:20260711T100000
DTEND;TZID=America/New_York:20260711T120000
DTSTAMP:20260421T175102
CREATED:20260407T164954Z
LAST-MODIFIED:20260419T163850Z
UID:5182-1783764000-1783771200@hogansplacepettingfarm.com
SUMMARY:Barn Birthday Party
DESCRIPTION:Celebrate Your Child’s Birthday at the Farm!\n\n\n\nMake your child’s special day unforgettable with a fun-filled birthday party at our farm! From animal encounters to pony rides and picnic-style parties in our open-air barn\, it’s the perfect mix of nature\, adventure\, and celebration. We provide the space—just bring the food\, decorations\, and birthday cheer! \n\n\n\n\n\n\n\nParty Details\n\n\n\nParty Time Slot:\n\n\n\n\nArrive 30 minutes early for setup & stay 30 minutes after for cleanup.\n\n\n\nYou can enjoy the farm all day\, but the reserved time is for the party area only.\n\n\n\n\n\n\n\n\nParty Area:\n\n\n\n\n6 picnic tables reserved inside the barn\n\n\n\nOutside food\, drinks\, and cake are allowed. (No crockpots or food appliances)\n\n\n\nDecorations welcome\, but are limited to tablecloths and weighted balloons. No decorations on stage area or obstructing petting farm operation\n\n\n\nPlease limit balloons to a maximum of 20\, No banners\, balloon arches or decorations attached to structure of barn.\n\n\n\n\n\n\n\n\n\n\n\n\n\n\nPricing: $250 \n\n\n\nParty Package Includes:\n\n\n\n\n20 Guests Included (Children and Adults)\n\n\n\nReserved tables in our Barn for 2 hours\n\n\n\n20 animal feed cup Included\n\n10 grain cups\n\n\n\n10 veggie cups\n\n\n\n\n\n\nAdd-Ons:\n\n\n\n\nAdditional guests are $5 per person (Kids 2 and under are free)\n\n\n\nAnimal Feed:\n\n$5 per grain cup\n\n\n\n$5 per veggie cup\n\n\n\n\n\nPony Rides: $10 per child\n\n\n\n\nHow to Book:\n\n\n\nReserve your party date and time by purchasing the birthday party reservation\, day of the party we will keep a tab of and you can settle it at the end of the party.
URL:https://hogansplacepettingfarm.com/event/barn-birthday-party-16/
END:VEVENT
BEGIN:VEVENT
DTSTART;TZID=America/New_York:20260711T130000
DTEND;TZID=America/New_York:20260711T150000
DTSTAMP:20260421T175102
CREATED:20260417T161628Z
LAST-MODIFIED:20260417T161631Z
UID:5190-1783774800-1783782000@hogansplacepettingfarm.com
SUMMARY:Barn Birthday Party
DESCRIPTION:Celebrate Your Child’s Birthday at the Farm!\n\n\n\nMake your child’s special day unforgettable with a fun-filled birthday party at our farm! From animal encounters to pony rides and picnic-style parties in our open-air barn\, it’s the perfect mix of nature\, adventure\, and celebration. We provide the space—just bring the food\, decorations\, and birthday cheer! \n\n\n\n\n\n\n\nParty Details\n\n\n\nParty Time Slot:\n\n\n\n\nArrive 30 minutes early for setup & stay 30 minutes after for cleanup.\n\n\n\nYou can enjoy the farm all day\, but the reserved time is for the party area only.\n\n\n\n\n\n\n\n\nParty Area:\n\n\n\n\n6 picnic tables reserved inside the barn\n\n\n\nOutside food\, drinks\, and cake are allowed. (No crockpots or food appliances)\n\n\n\nDecorations welcome\, but are limited to tablecloths and weighted balloons. No decorations on stage area or obstructing petting farm operation\n\n\n\nPlease limit balloons to a maximum of 20\, No banners\, balloon arches or decorations attached to structure of barn.\n\n\n\n\n\n\n\n\n\n\n\n\n\n\nPricing: $250 \n\n\n\nParty Package Includes:\n\n\n\n\n20 Guests Included (Children and Adults)\n\n\n\nReserved tables in our Barn for 2 hours\n\n\n\n20 animal feed cup Included\n\n10 grain cups\n\n\n\n10 veggie cups\n\n\n\n\n\n\nAdd-Ons:\n\n\n\n\nAdditional guests are $5 per person (Kids 2 and under are free)\n\n\n\nAnimal Feed:\n\n$5 per grain cup\n\n\n\n$5 per veggie cup\n\n\n\n\n\nPony Rides: $10 per child\n\n\n\n\nHow to Book:\n\n\n\nReserve your party date and time by purchasing the birthday party reservation\, day of the party we will keep a tab of and you can settle it at the end of the party.
URL:https://hogansplacepettingfarm.com/event/barn-birthday-party-17/
END:VEVENT
BEGIN:VEVENT
DTSTART;TZID=America/New_York:20260725T130000
DTEND;TZID=America/New_York:20260725T150000
DTSTAMP:20260421T175102
CREATED:20260322T171952Z
LAST-MODIFIED:20260322T171955Z
UID:5131-1784984400-1784991600@hogansplacepettingfarm.com
SUMMARY:Barn Birthday Party
DESCRIPTION:Celebrate Your Child’s Birthday at the Farm!\n\n\n\nMake your child’s special day unforgettable with a fun-filled birthday party at our farm! From animal encounters to pony rides and picnic-style parties in our open-air barn\, it’s the perfect mix of nature\, adventure\, and celebration. We provide the space—just bring the food\, decorations\, and birthday cheer! \n\n\n\n\n\n\n\nParty Details\n\n\n\nParty Time Slot:\n\n\n\n\nArrive 30 minutes early for setup & stay 30 minutes after for cleanup.\n\n\n\nYou can enjoy the farm all day\, but the reserved time is for the party area only.\n\n\n\n\n\n\n\n\nParty Area:\n\n\n\n\n6 picnic tables reserved inside the barn\n\n\n\nOutside food\, drinks\, and cake are allowed. (No crockpots or food appliances)\n\n\n\nDecorations welcome\, but are limited to tablecloths and weighted balloons. No decorations on stage area or obstructing petting farm operation\n\n\n\nPlease limit balloons to a maximum of 20\, No banners\, balloon arches or decorations attached to structure of barn.\n\n\n\n\n\n\n\n\n\n\n\n\n\n\nPricing: $250 \n\n\n\nParty Package Includes:\n\n\n\n\n20 Guests Included (Children and Adults)\n\n\n\nReserved tables in our Barn for 2 hours\n\n\n\n20 animal feed cup Included\n\n10 grain cups\n\n\n\n10 veggie cups\n\n\n\n\n\n\nAdd-Ons:\n\n\n\n\nAdditional guests are $5 per person (Kids 2 and under are free)\n\n\n\nAnimal Feed:\n\n$5 per grain cup\n\n\n\n$5 per veggie cup\n\n\n\n\n\nPony Rides: $10 per child\n\n\n\n\nHow to Book:\n\n\n\nReserve your party date and time by purchasing the birthday party reservation\, day of the party we will keep a tab of and you can settle it at the end of the party.
URL:https://hogansplacepettingfarm.com/event/barn-birthday-party-9/
END:VEVENT
BEGIN:VEVENT
DTSTART;TZID=America/New_York:20260815T130000
DTEND;TZID=America/New_York:20260815T150000
DTSTAMP:20260421T175102
CREATED:20260419T163656Z
LAST-MODIFIED:20260419T163658Z
UID:5207-1786798800-1786806000@hogansplacepettingfarm.com
SUMMARY:Barn Birthday Party
DESCRIPTION:Celebrate Your Child’s Birthday at the Farm!\n\n\n\nMake your child’s special day unforgettable with a fun-filled birthday party at our farm! From animal encounters to pony rides and picnic-style parties in our open-air barn\, it’s the perfect mix of nature\, adventure\, and celebration. We provide the space—just bring the food\, decorations\, and birthday cheer! \n\n\n\n\n\n\n\nParty Details\n\n\n\nParty Time Slot:\n\n\n\n\nArrive 30 minutes early for setup & stay 30 minutes after for cleanup.\n\n\n\nYou can enjoy the farm all day\, but the reserved time is for the party area only.\n\n\n\n\n\n\n\n\nParty Area:\n\n\n\n\n6 picnic tables reserved inside the barn\n\n\n\nOutside food\, drinks\, and cake are allowed. (No crockpots or food appliances)\n\n\n\nDecorations welcome\, but are limited to tablecloths and weighted balloons. No decorations on stage area or obstructing petting farm operation\n\n\n\nPlease limit balloons to a maximum of 20\, No banners\, balloon arches or decorations attached to structure of barn.\n\n\n\n\n\n\n\n\n\n\n\n\n\n\nPricing: $250 \n\n\n\nParty Package Includes:\n\n\n\n\n20 Guests Included (Children and Adults)\n\n\n\nReserved tables in our Barn for 2 hours\n\n\n\n20 animal feed cup Included\n\n10 grain cups\n\n\n\n10 veggie cups\n\n\n\n\n\n\nAdd-Ons:\n\n\n\n\nAdditional guests are $5 per person (Kids 2 and under are free)\n\n\n\nAnimal Feed:\n\n$5 per grain cup\n\n\n\n$5 per veggie cup\n\n\n\n\n\nPony Rides: $10 per child\n\n\n\n\nHow to Book:\n\n\n\nReserve your party date and time by purchasing the birthday party reservation\, day of the party we will keep a tab of and you can settle it at the end of the party.
URL:https://hogansplacepettingfarm.com/event/barn-birthday-party-20/
END:VEVENT
BEGIN:VEVENT
DTSTART;TZID=America/New_York:20260912T100000
DTEND;TZID=America/New_York:20260912T120000
DTSTAMP:20260421T175102
CREATED:20260312T002640Z
LAST-MODIFIED:20260312T002645Z
UID:5105-1789207200-1789214400@hogansplacepettingfarm.com
SUMMARY:Barn Birthday Party
DESCRIPTION:Celebrate Your Child’s Birthday at the Farm!\n\n\n\nMake your child’s special day unforgettable with a fun-filled birthday party at our farm! From animal encounters to pony rides and picnic-style parties in our open-air barn\, it’s the perfect mix of nature\, adventure\, and celebration. We provide the space—just bring the food\, decorations\, and birthday cheer! \n\n\n\n\n\n\n\nParty Details\n\n\n\nParty Time Slot:\n\n\n\n\nArrive 30 minutes early for setup & stay 30 minutes after for cleanup.\n\n\n\nYou can enjoy the farm all day\, but the reserved time is for the party area only.\n\n\n\n\n\n\n\n\nParty Area:\n\n\n\n\n6 picnic tables reserved inside the barn\n\n\n\nOutside food\, drinks\, and cake are allowed. (No crockpots or food appliances)\n\n\n\nDecorations welcome\, but are limited to tablecloths and weighted balloons. No decorations on stage area or obstructing petting farm operation\n\n\n\nPlease limit balloons to a maximum of 20\, No banners\, balloon arches or decorations attached to structure of barn.\n\n\n\n\n\n\n\n\n\n\n\n\n\n\nPricing: $250 \n\n\n\nParty Package Includes:\n\n\n\n\n20 Guests Included (Children and Adults)\n\n\n\nReserved tables in our Barn for 2 hours\n\n\n\n20 animal feed cup Included\n\n10 grain cups\n\n\n\n10 veggie cups\n\n\n\n\n\n\nAdd-Ons:\n\n\n\n\nAdditional guests are $5 per person (Kids 2 and under are free)\n\n\n\nAnimal Feed:\n\n$5 per grain cup\n\n\n\n$5 per veggie cup\n\n\n\n\n\nPony Rides: $10 per child\n\n\n\n\nHow to Book:\n\n\n\nReserve your party date and time by purchasing the birthday party reservation\, day of the party we will keep a tab of and you can settle it at the end of the party.
URL:https://hogansplacepettingfarm.com/event/barn-birthday-party-4/
END:VEVENT
END:VCALENDAR