BEGIN:VCALENDAR
VERSION:2.0
PRODID:-//Hogan&#039;s Place Petting Farm - ECPv6.15.20//NONSGML v1.0//EN
CALSCALE:GREGORIAN
METHOD:PUBLISH
X-WR-CALNAME:Hogan&#039;s Place Petting Farm
X-ORIGINAL-URL:https://hogansplacepettingfarm.com
X-WR-CALDESC:Events for Hogan&#039;s Place Petting Farm
REFRESH-INTERVAL;VALUE=DURATION:PT1H
X-Robots-Tag:noindex
X-PUBLISHED-TTL:PT1H
BEGIN:VTIMEZONE
TZID:America/New_York
BEGIN:DAYLIGHT
TZOFFSETFROM:-0500
TZOFFSETTO:-0400
TZNAME:EDT
DTSTART:20240310T070000
END:DAYLIGHT
BEGIN:STANDARD
TZOFFSETFROM:-0400
TZOFFSETTO:-0500
TZNAME:EST
DTSTART:20241103T060000
END:STANDARD
BEGIN:DAYLIGHT
TZOFFSETFROM:-0500
TZOFFSETTO:-0400
TZNAME:EDT
DTSTART:20250309T070000
END:DAYLIGHT
BEGIN:STANDARD
TZOFFSETFROM:-0400
TZOFFSETTO:-0500
TZNAME:EST
DTSTART:20251102T060000
END:STANDARD
BEGIN:DAYLIGHT
TZOFFSETFROM:-0500
TZOFFSETTO:-0400
TZNAME:EDT
DTSTART:20260308T070000
END:DAYLIGHT
BEGIN:STANDARD
TZOFFSETFROM:-0400
TZOFFSETTO:-0500
TZNAME:EST
DTSTART:20261101T060000
END:STANDARD
END:VTIMEZONE
BEGIN:VEVENT
DTSTART;TZID=America/New_York:20251213T090000
DTEND;TZID=America/New_York:20251213T100000
DTSTAMP:20260422T073737
CREATED:20251206T184703Z
LAST-MODIFIED:20251209T044003Z
UID:4483-1765616400-1765620000@hogansplacepettingfarm.com
SUMMARY:Goat Yoga
DESCRIPTION:Experience the joy of yoga with a playful twist! Join us at Hogan’s Place for Goat Yoga\n\n\n\n\n\n\n\n\n\n\n\n\n\n\n\n\n\n\nAn outdoor class where friendly goats roam\, nuzzle\, and sometimes hop on your back while you stretch and flow. It’s a fun\, relaxing\, and unforgettable way to connect with nature\, animals\, and yourself. All ages and skill levels welcome. Just bring your mat and sense of humor! \n\n\n\nPurchase your tickets below!\, Kids are $10 and you can pay day of event!
URL:https://hogansplacepettingfarm.com/event/goat-yoga-5/
END:VEVENT
BEGIN:VEVENT
DTSTART;TZID=America/New_York:20251206T100000
DTEND;TZID=America/New_York:20251206T160000
DTSTAMP:20260422T073737
CREATED:20251206T182627Z
LAST-MODIFIED:20251206T182629Z
UID:4480-1765015200-1765036800@hogansplacepettingfarm.com
SUMMARY:Hogans Place Closed
DESCRIPTION:We are closed all day for a private event
URL:https://hogansplacepettingfarm.com/event/hogans-place-closed/
END:VEVENT
BEGIN:VEVENT
DTSTART;TZID=America/New_York:20251201T080000
DTEND;TZID=America/New_York:20251201T170000
DTSTAMP:20260422T073737
CREATED:20260128T142825Z
LAST-MODIFIED:20260128T142829Z
UID:4950-1764576000-1764608400@hogansplacepettingfarm.com
SUMMARY:test birthday party for Jacob
DESCRIPTION:
URL:https://hogansplacepettingfarm.com/event/test-birthday-party-for-jacob/
END:VEVENT
BEGIN:VEVENT
DTSTART;TZID=America/New_York:20251001T080000
DTEND;TZID=America/New_York:20251001T170000
DTSTAMP:20260422T073737
CREATED:20260120T041721Z
LAST-MODIFIED:20260120T041729Z
UID:4922-1759305600-1759338000@hogansplacepettingfarm.com
SUMMARY:test
DESCRIPTION:
URL:https://hogansplacepettingfarm.com/event/test/
END:VEVENT
END:VCALENDAR